BEGIN:VCALENDAR
VERSION:2.0
PRODID:-//NewMark Beauty - Medspa Services, Courses For Cosmetologists, And Beauty Products - ECPv6.15.17.1//NONSGML v1.0//EN
CALSCALE:GREGORIAN
METHOD:PUBLISH
X-WR-CALNAME:NewMark Beauty - Medspa Services, Courses For Cosmetologists, And Beauty Products
X-ORIGINAL-URL:https://www.newmarkbeauty.com
X-WR-CALDESC:Events for NewMark Beauty - Medspa Services, Courses For Cosmetologists, And Beauty Products
REFRESH-INTERVAL;VALUE=DURATION:PT1H
X-Robots-Tag:noindex
X-PUBLISHED-TTL:PT1H
BEGIN:VTIMEZONE
TZID:America/Los_Angeles
BEGIN:DAYLIGHT
TZOFFSETFROM:-0800
TZOFFSETTO:-0700
TZNAME:PDT
DTSTART:20250309T100000
END:DAYLIGHT
BEGIN:STANDARD
TZOFFSETFROM:-0700
TZOFFSETTO:-0800
TZNAME:PST
DTSTART:20251102T090000
END:STANDARD
BEGIN:DAYLIGHT
TZOFFSETFROM:-0800
TZOFFSETTO:-0700
TZNAME:PDT
DTSTART:20260308T100000
END:DAYLIGHT
BEGIN:STANDARD
TZOFFSETFROM:-0700
TZOFFSETTO:-0800
TZNAME:PST
DTSTART:20261101T090000
END:STANDARD
BEGIN:DAYLIGHT
TZOFFSETFROM:-0800
TZOFFSETTO:-0700
TZNAME:PDT
DTSTART:20270314T100000
END:DAYLIGHT
BEGIN:STANDARD
TZOFFSETFROM:-0700
TZOFFSETTO:-0800
TZNAME:PST
DTSTART:20271107T090000
END:STANDARD
END:VTIMEZONE
BEGIN:VEVENT
DTSTART;TZID=America/Los_Angeles:20260421T160000
DTEND;TZID=America/Los_Angeles:20260421T170000
DTSTAMP:20260421T044434
CREATED:20221219T220023Z
LAST-MODIFIED:20260324T204505Z
UID:7718-1776787200-1776790800@www.newmarkbeauty.com
SUMMARY:Let's Shine a Light on LED Therapy
DESCRIPTION:WHAT IS LED LIGHT THERAPY AND WHAT IS THE DIFFERENCE BETWEEN ALL THESE PANELS?\n \n\n\nWhat are the industry standards? \n\n\nIs there a light I can buy from Amazon?                                                                                                         \n\n\nHow much power do I need to see results? \n\n\nCan I mix lights?  \n\n\nLet me shine a light on some of these questions.\nJOINING ME IS THE PRESIDENT/CEO OF LUMARA SYSTEM\, BILL WEIDEMANN\n\nGet all the details on what sets Lumara apart!\n\nWhen: Tuesday\, April 21st\, 2026 4:00 PM Pacific Time. ADJUST FOR YOUR TIME ZONE \nRegister in advance for this meeting: \nhttps://us02web.zoom.us/meeting/register/fbMdcJ0rS1y4UzZI00ec2g \nAfter registering\, you will receive a confirmation email containing information about joining the meeting. \nPLEASE CONTACT US IF YOU HAVE ANY QUESTIONS.    INFO@NEWMARKBEAUTY.COM
URL:https://www.newmarkbeauty.com/event/lets-shine-a-light-on-led-therapy-2/
ATTACH;FMTTYPE=image/jpeg:https://www.newmarkbeauty.com/wp-content/uploads/2021/08/IMG_2356.jpg
END:VEVENT
END:VCALENDAR